BEGIN:VCALENDAR
VERSION:2.0
PRODID:-//Lakestyle - ECPv6.15.12.2//NONSGML v1.0//EN
CALSCALE:GREGORIAN
METHOD:PUBLISH
X-WR-CALNAME:Lakestyle
X-ORIGINAL-URL:https://lakestyle.ca
X-WR-CALDESC:Events for Lakestyle
REFRESH-INTERVAL;VALUE=DURATION:PT1H
X-Robots-Tag:noindex
X-PUBLISHED-TTL:PT1H
BEGIN:VTIMEZONE
TZID:America/Edmonton
BEGIN:DAYLIGHT
TZOFFSETFROM:-0700
TZOFFSETTO:-0600
TZNAME:MDT
DTSTART:20160313T090000
END:DAYLIGHT
BEGIN:STANDARD
TZOFFSETFROM:-0600
TZOFFSETTO:-0700
TZNAME:MST
DTSTART:20161106T080000
END:STANDARD
BEGIN:DAYLIGHT
TZOFFSETFROM:-0700
TZOFFSETTO:-0600
TZNAME:MDT
DTSTART:20170312T090000
END:DAYLIGHT
BEGIN:STANDARD
TZOFFSETFROM:-0600
TZOFFSETTO:-0700
TZNAME:MST
DTSTART:20171105T080000
END:STANDARD
BEGIN:DAYLIGHT
TZOFFSETFROM:-0700
TZOFFSETTO:-0600
TZNAME:MDT
DTSTART:20180311T090000
END:DAYLIGHT
BEGIN:STANDARD
TZOFFSETFROM:-0600
TZOFFSETTO:-0700
TZNAME:MST
DTSTART:20181104T080000
END:STANDARD
END:VTIMEZONE
BEGIN:VEVENT
DTSTART;TZID=America/Edmonton:20170316T120000
DTEND;TZID=America/Edmonton:20170319T170000
DTSTAMP:20260423T182637
CREATED:20170328T015054Z
LAST-MODIFIED:20170328T015054Z
UID:2731-1489665600-1489942800@lakestyle.ca
SUMMARY:Edmonton Boat and Sportsmen's Show
DESCRIPTION:
URL:https://lakestyle.ca/event/edmonton-boat-sportsmens-show/
LOCATION:Northlands Expo Centre\, 7515 118 Ave NW\, Edmonton\, Alberta\, Canada
CATEGORIES:Boat and Sportsmen's Show
END:VEVENT
END:VCALENDAR